BEGIN:VCALENDAR
VERSION:2.0
PRODID:-//Aerztenetz-mk - ECPv6.15.20//NONSGML v1.0//EN
CALSCALE:GREGORIAN
METHOD:PUBLISH
X-WR-CALNAME:Aerztenetz-mk
X-ORIGINAL-URL:https://aerztenetz-mk.de
X-WR-CALDESC:Veranstaltungen für Aerztenetz-mk
REFRESH-INTERVAL;VALUE=DURATION:PT1H
X-Robots-Tag:noindex
X-PUBLISHED-TTL:PT1H
BEGIN:VTIMEZONE
TZID:Europe/Paris
BEGIN:DAYLIGHT
TZOFFSETFROM:+0100
TZOFFSETTO:+0200
TZNAME:CEST
DTSTART:20210328T010000
END:DAYLIGHT
BEGIN:STANDARD
TZOFFSETFROM:+0200
TZOFFSETTO:+0100
TZNAME:CET
DTSTART:20211031T010000
END:STANDARD
BEGIN:DAYLIGHT
TZOFFSETFROM:+0100
TZOFFSETTO:+0200
TZNAME:CEST
DTSTART:20220327T010000
END:DAYLIGHT
BEGIN:STANDARD
TZOFFSETFROM:+0200
TZOFFSETTO:+0100
TZNAME:CET
DTSTART:20221030T010000
END:STANDARD
BEGIN:DAYLIGHT
TZOFFSETFROM:+0100
TZOFFSETTO:+0200
TZNAME:CEST
DTSTART:20230326T010000
END:DAYLIGHT
BEGIN:STANDARD
TZOFFSETFROM:+0200
TZOFFSETTO:+0100
TZNAME:CET
DTSTART:20231029T010000
END:STANDARD
END:VTIMEZONE
BEGIN:VEVENT
DTSTART;TZID=Europe/Paris:20220812T160000
DTEND;TZID=Europe/Paris:20220812T213000
DTSTAMP:20260424T104248
CREATED:20220624T180504Z
LAST-MODIFIED:20220624T180504Z
UID:574-1660320000-1660339800@aerztenetz-mk.de
SUMMARY:Sommerwanderung
DESCRIPTION:
URL:https://aerztenetz-mk.de/event/sommerwanderung/
LOCATION:Cafe Vedder\, NiederHolte 1\, 58849 Herscheid\, NiederHolte 1\, Herscheid\, 58849
END:VEVENT
END:VCALENDAR