BEGIN:VCALENDAR
VERSION:2.0
PRODID:-//Aerztenetz-mk - ECPv6.15.20//NONSGML v1.0//EN
CALSCALE:GREGORIAN
METHOD:PUBLISH
X-WR-CALNAME:Aerztenetz-mk
X-ORIGINAL-URL:https://aerztenetz-mk.de
X-WR-CALDESC:Veranstaltungen für Aerztenetz-mk
REFRESH-INTERVAL;VALUE=DURATION:PT1H
X-Robots-Tag:noindex
X-PUBLISHED-TTL:PT1H
BEGIN:VTIMEZONE
TZID:Europe/Paris
BEGIN:DAYLIGHT
TZOFFSETFROM:+0100
TZOFFSETTO:+0200
TZNAME:CEST
DTSTART:20210328T010000
END:DAYLIGHT
BEGIN:STANDARD
TZOFFSETFROM:+0200
TZOFFSETTO:+0100
TZNAME:CET
DTSTART:20211031T010000
END:STANDARD
BEGIN:DAYLIGHT
TZOFFSETFROM:+0100
TZOFFSETTO:+0200
TZNAME:CEST
DTSTART:20220327T010000
END:DAYLIGHT
BEGIN:STANDARD
TZOFFSETFROM:+0200
TZOFFSETTO:+0100
TZNAME:CET
DTSTART:20221030T010000
END:STANDARD
BEGIN:DAYLIGHT
TZOFFSETFROM:+0100
TZOFFSETTO:+0200
TZNAME:CEST
DTSTART:20230326T010000
END:DAYLIGHT
BEGIN:STANDARD
TZOFFSETFROM:+0200
TZOFFSETTO:+0100
TZNAME:CET
DTSTART:20231029T010000
END:STANDARD
END:VTIMEZONE
BEGIN:VEVENT
DTSTART;TZID=Europe/Paris:20221019T180000
DTEND;TZID=Europe/Paris:20221019T200000
DTSTAMP:20260424T075316
CREATED:20220917T180105Z
LAST-MODIFIED:20220917T180105Z
UID:584-1666202400-1666209600@aerztenetz-mk.de
SUMMARY:Jahreshauptversammlung des Ärztenetzes MK-Süd e.V.
DESCRIPTION:
URL:https://aerztenetz-mk.de/event/jahreshauptversammlung-des-aerztenetzes-mk-sued-e-v/
LOCATION:Bahnhofsallee 2\, 58507 Lüdenscheid\, 3. Stock\, Bahnhofsallee 2\, 3. Stock\, 58507 Lüdenscheid
END:VEVENT
END:VCALENDAR