BEGIN:VCALENDAR
VERSION:2.0
PRODID:-//Aerztenetz-mk - ECPv6.15.20//NONSGML v1.0//EN
CALSCALE:GREGORIAN
METHOD:PUBLISH
X-ORIGINAL-URL:https://aerztenetz-mk.de
X-WR-CALDESC:Veranstaltungen für Aerztenetz-mk
REFRESH-INTERVAL;VALUE=DURATION:PT1H
X-Robots-Tag:noindex
X-PUBLISHED-TTL:PT1H
BEGIN:VTIMEZONE
TZID:Europe/Paris
BEGIN:DAYLIGHT
TZOFFSETFROM:+0100
TZOFFSETTO:+0200
TZNAME:CEST
DTSTART:20210328T010000
END:DAYLIGHT
BEGIN:STANDARD
TZOFFSETFROM:+0200
TZOFFSETTO:+0100
TZNAME:CET
DTSTART:20211031T010000
END:STANDARD
BEGIN:DAYLIGHT
TZOFFSETFROM:+0100
TZOFFSETTO:+0200
TZNAME:CEST
DTSTART:20220327T010000
END:DAYLIGHT
BEGIN:STANDARD
TZOFFSETFROM:+0200
TZOFFSETTO:+0100
TZNAME:CET
DTSTART:20221030T010000
END:STANDARD
BEGIN:DAYLIGHT
TZOFFSETFROM:+0100
TZOFFSETTO:+0200
TZNAME:CEST
DTSTART:20230326T010000
END:DAYLIGHT
BEGIN:STANDARD
TZOFFSETFROM:+0200
TZOFFSETTO:+0100
TZNAME:CET
DTSTART:20231029T010000
END:STANDARD
END:VTIMEZONE
BEGIN:VEVENT
DTSTART;TZID=Europe/Paris:20221117T194500
DTEND;TZID=Europe/Paris:20221117T220000
DTSTAMP:20260424T062120
CREATED:20221026T170750Z
LAST-MODIFIED:20221026T170750Z
UID:590-1668714300-1668722400@aerztenetz-mk.de
SUMMARY:Stammtisch\, Qualitätszirkel
DESCRIPTION:
URL:https://aerztenetz-mk.de/event/stammtisch-qualitaetszirkel/
LOCATION:Wirtshaus Zum Schwejk\, Lüdenscheid\, Lüdenscheid
END:VEVENT
END:VCALENDAR